BEGIN:VCALENDAR
VERSION:2.0
PRODID:-//Intand Corporation//Tandem//EN
METHOD:PUBLISH
BEGIN:VEVENT
DTSTAMP:20260424T022421Z
DTSTART:20180907T210000Z
DTEND:20180908T045959Z
TRANSP:TRANSPARENT
PRIORITY:0
SUMMARY:LN MDive V at Truman Invite
LOCATION:Liberty Community Center
DESCRIPTION:Breakdown: TBD\n\nReturn: TBD\n\nGroups:\nLNHS Dive - Boys\n\n
 Schools:\nLiberty North High School\n\nLocation:\nLiberty Community Center
 \n\n
URL;VALUE=URI:http://liberty53.tandem.co/index.php?type=view&action=event&
 id=322877
CREATED:20180719T190613Z
LAST-MODIFIED:20180719T190613Z
UID:event-322877-liberty53@intand.com
END:VEVENT
END:VCALENDAR
