BEGIN:VCALENDAR
VERSION:2.0
PRODID:-//Intand Corporation//Tandem//EN
METHOD:PUBLISH
BEGIN:VEVENT
DTSTAMP:20260424T075848Z
DTSTART:20190709T133000Z
DTEND:20190709T213000Z
TRANSP:TRANSPARENT
PRIORITY:0
SUMMARY:LMS - Parks & Rec Play-well Technologies LEGO Camp
LOCATION:Liberty Academy
DESCRIPTION:Groups:\nLiberty Parks & Rec\n\nSchools:\nLiberty Academy\n\nL
 ocation:\nLiberty Academy\n\n
URL;VALUE=URI:http://liberty53.tandem.co/index.php?type=view&action=event&
 id=322862
CREATED:20180719T185153Z
LAST-MODIFIED:20180719T185153Z
UID:event-322862-liberty53@intand.com
END:VEVENT
END:VCALENDAR
