BEGIN:VCALENDAR
VERSION:2.0
PRODID:-//Intand Corporation//Tandem//EN
METHOD:PUBLISH
BEGIN:VEVENT
DTSTAMP:20260424T061441Z
DTSTART:20180825T130000Z
DTEND:20180826T045959Z
TRANSP:TRANSPARENT
PRIORITY:0
SUMMARY:LN VB JV at Staley Tourney 🏐
LOCATION:Staley High School
DESCRIPTION:Breakdown: TBD\n\nReturn: TBD\n\nGroups:\nLNHS Volleyball - JV
 /Varsity\n\nSchools:\nLiberty North High School\n\nLocation:\nStaley High 
 School\n\n
URL;VALUE=URI:http://liberty53.tandem.co/index.php?type=view&action=event&
 id=322639
CREATED:20180719T151313Z
LAST-MODIFIED:20180820T182222Z
UID:event-322639-liberty53@intand.com
END:VEVENT
END:VCALENDAR
