BEGIN:VCALENDAR
VERSION:2.0
PRODID:-//Intand Corporation//Tandem//EN
METHOD:PUBLISH
BEGIN:VEVENT
DTSTAMP:20260424T053453Z
DTSTART;VALUE=DATE:20181008
DTEND;VALUE=DATE:20181009
TRANSP:TRANSPARENT
PRIORITY:0
SUMMARY:LN WGolf V Sectionals
LOCATION:TBA
DESCRIPTION:Groups:\nLNHS WGolf V\n\nSchools:\nLiberty North High School\n
 \nLocation:\nTBA\n\n
URL;VALUE=URI:http://liberty53.tandem.co/index.php?type=view&action=event&
 id=322564
CREATED:20180719T144840Z
LAST-MODIFIED:20180719T144840Z
UID:event-322564-liberty53@intand.com
END:VEVENT
END:VCALENDAR
