BEGIN:VCALENDAR
VERSION:2.0
PRODID:-//Intand Corporation//Tandem//EN
METHOD:PUBLISH
BEGIN:VEVENT
DTSTAMP:20260424T061307Z
DTSTART:20181010T210000Z
DTEND:20181011T045959Z
TRANSP:TRANSPARENT
PRIORITY:0
SUMMARY:LN FB 9 A&B at PHill
LOCATION:Park Hill High School
DESCRIPTION:Breakdown: TBD\n\nReturn: TBD\n\nGroups:\nLNHS Football - Fres
 hman\n\nSchools:\nLiberty North High School\n\nLocation:\nPark Hill High S
 chool\n\n
URL;VALUE=URI:http://liberty53.tandem.co/index.php?type=view&action=event&
 id=322546
CREATED:20180719T142828Z
LAST-MODIFIED:20180719T142828Z
UID:event-322546-liberty53@intand.com
END:VEVENT
END:VCALENDAR
