BEGIN:VCALENDAR
VERSION:2.0
PRODID:-//Intand Corporation//Tandem//EN
METHOD:PUBLISH
BEGIN:VEVENT
DTSTAMP:20260424T043100Z
DTSTART:20180912T210000Z
DTEND:20180913T045959Z
TRANSP:TRANSPARENT
PRIORITY:0
SUMMARY:LN FB 9 A&B at BSprings
LOCATION:Freshman Center High School
DESCRIPTION:Breakdown: TBD\n\nReturn: TBD\n\nGroups:\nLNHS Football - Fres
 hman\n\nSchools:\nLiberty North High School\n\nLocation:\nFreshman Center 
 High School\n\n
URL;VALUE=URI:http://liberty53.tandem.co/index.php?type=view&action=event&
 id=322542
CREATED:20180719T142541Z
LAST-MODIFIED:20180719T142541Z
UID:event-322542-liberty53@intand.com
END:VEVENT
END:VCALENDAR
