BEGIN:VCALENDAR
VERSION:2.0
PRODID:-//Intand Corporation//Tandem//EN
METHOD:PUBLISH
BEGIN:VEVENT
DTSTAMP:20260424T055135Z
DTSTART:20180929T000000Z
DTEND:20180929T030000Z
TRANSP:TRANSPARENT
PRIORITY:0
SUMMARY:LN FB V at Staley
LOCATION:Staley High School
DESCRIPTION:Groups:\nLNHS Football - Varsity\nLNHS Football - Sophomore\nL
 NHS Football - JV\n\nSchools:\nLiberty North High School\n\nLocation:\nSta
 ley High School\n\n
URL;VALUE=URI:http://liberty53.tandem.co/index.php?type=view&action=event&
 id=322231
CREATED:20180718T232851Z
LAST-MODIFIED:20180718T232851Z
UID:event-322231-liberty53@intand.com
END:VEVENT
END:VCALENDAR
