BEGIN:VCALENDAR
VERSION:2.0
PRODID:-//Intand Corporation//Tandem//EN
METHOD:PUBLISH
BEGIN:VEVENT
DTSTAMP:20260424T024235Z
DTSTART:20190521T230000Z
DTEND:20190522T030000Z
TRANSP:TRANSPARENT
PRIORITY:0
SUMMARY:[Cancelled] SVMS - Parks & Rec Spring Youth Volleyball
LOCATION:SVMS Gym
DESCRIPTION:Groups:\nLiberty Parks & Rec Volleyball\n\nSchools:\nSouth Val
 ley Middle School\n\nLocation:\nSVMS Gym\n\n
URL;VALUE=URI:http://liberty53.tandem.co/index.php?type=view&action=event&
 id=322186
CREATED:20180718T164606Z
LAST-MODIFIED:20190308T182606Z
UID:event-322186-liberty53@intand.com
END:VEVENT
END:VCALENDAR
