BEGIN:VCALENDAR
VERSION:2.0
PRODID:-//Intand Corporation//Tandem//EN
METHOD:PUBLISH
BEGIN:VEVENT
DTSTAMP:20260424T144138Z
DTSTART:20181229T000000Z
DTEND:20181229T040000Z
TRANSP:TRANSPARENT
PRIORITY:0
SUMMARY:[Cancelled] SVMS - Parks & Rec Youth Basketball
LOCATION:SVMS Gym
DESCRIPTION:Groups:\nLiberty Parks & Rec Basketball\n\nSchools:\nSouth Val
 ley Middle School\n\nLocation:\nSVMS Gym\n\n
URL;VALUE=URI:http://liberty53.tandem.co/index.php?type=view&action=event&
 id=322130
CREATED:20180718T162930Z
LAST-MODIFIED:20181206T192652Z
UID:event-322130-liberty53@intand.com
END:VEVENT
END:VCALENDAR
