BEGIN:VCALENDAR
VERSION:2.0
PRODID:-//Intand Corporation//Tandem//EN
METHOD:PUBLISH
BEGIN:VEVENT
DTSTAMP:20260424T072959Z
DTSTART:20180821T230000Z
DTEND:20180822T030000Z
TRANSP:TRANSPARENT
PRIORITY:0
SUMMARY:SVMS - Parks & Rec Fall Youth Volleyball
LOCATION:SVMS Gym
DESCRIPTION:Groups:\nLiberty Parks & Rec Volleyball\n\nSchools:\nSouth Val
 ley Middle School\n\nLocation:\nSVMS Gym\n\n
URL;VALUE=URI:http://liberty53.tandem.co/index.php?type=view&action=event&
 id=322080
CREATED:20180718T162132Z
LAST-MODIFIED:20180718T162132Z
UID:event-322080-liberty53@intand.com
END:VEVENT
END:VCALENDAR
