BEGIN:VCALENDAR
VERSION:2.0
PRODID:-//Intand Corporation//Tandem//EN
METHOD:PUBLISH
BEGIN:VEVENT
DTSTAMP:20260424T050332Z
DTSTART:20190414T180000Z
DTEND:20190415T030000Z
TRANSP:TRANSPARENT
PRIORITY:0
SUMMARY:DMS - Parks & Rec Adult Basketball
LOCATION:DMS Gym
DESCRIPTION:Bathrooms open\, scoreboard controller\, trash cans out\, scor
 ing table\, staock of chairs and 1st row of bleachers out\n\nGroups:\nLibe
 rty Parks & Rec Basketball\n\nSchools:\nDiscovery Middle School\n\nLocatio
 n:\nDMS Gym\n\n
URL;VALUE=URI:http://liberty53.tandem.co/index.php?type=view&action=event&
 id=321997
CREATED:20180718T151720Z
LAST-MODIFIED:20190219T165812Z
UID:event-321997-liberty53@intand.com
END:VEVENT
END:VCALENDAR
