BEGIN:VCALENDAR
VERSION:2.0
PRODID:-//Intand Corporation//Tandem//EN
METHOD:PUBLISH
BEGIN:VEVENT
DTSTAMP:20260424T061328Z
DTSTART:20180918T201500Z
DTEND:20180918T211500Z
TRANSP:TRANSPARENT
PRIORITY:0
SUMMARY:LNMBB Workouts V/JV/So/Fr
LOCATION:LNHS Fieldhouse (GH HVAC)
DESCRIPTION:Groups:\nLNHS Basketball - Boys Sophomore\nLNHS Basketball - B
 oys JV\nLNHS Basketball - Boys C-Team\nLNHS Basketball - Boys Varsity\n\nS
 chools:\nDO NOT USE****South Valley Junior High School\nDO NOT USE***Liber
 ty Junior High School\nLiberty North High School\n\nLocation:\nLNHS Fieldh
 ouse (GH HVAC)\n\n
URL;VALUE=URI:http://liberty53.tandem.co/index.php?type=view&action=event&
 id=321672
CREATED:20180717T145124Z
LAST-MODIFIED:20180717T151533Z
UID:event_request-321672-liberty53@intand.com
END:VEVENT
END:VCALENDAR
