BEGIN:VCALENDAR
VERSION:2.0
PRODID:-//Intand Corporation//Tandem//EN
METHOD:PUBLISH
BEGIN:VEVENT
DTSTAMP:20260424T030343Z
DTSTART:20180811T160000Z
DTEND:20180812T040000Z
TRANSP:TRANSPARENT
PRIORITY:0
SUMMARY:LHS XC 12 Hour Relay
LOCATION:LHS Aerobics Room
DESCRIPTION:Place for runners to hangout to escape heat and cool off insid
 e if very hot outside.\n\nGroups:\nLHS Cross Country\n\nSchools:\nLiberty 
 High School\n\nLocation:\nLHS Aerobics Room\n\n
URL;VALUE=URI:http://liberty53.tandem.co/index.php?type=view&action=event&
 id=321289
CREATED:20180716T164605Z
LAST-MODIFIED:20180723T151308Z
UID:event_request-321289-liberty53@intand.com
END:VEVENT
END:VCALENDAR
