BEGIN:VCALENDAR
VERSION:2.0
PRODID:-//Intand Corporation//Tandem//EN
METHOD:PUBLISH
BEGIN:VEVENT
DTSTAMP:20260424T055305Z
DTSTART:20180830T190000Z
DTEND:20180831T010000Z
TRANSP:TRANSPARENT
PRIORITY:0
SUMMARY:LNHS Football Practice
LOCATION:LNHS FB Practice Field  - East\, LNHS FB Practice Field - West\, 
 LNHS Football Field\, LNHS Activity Complex
DESCRIPTION:Groups:\nLNHS Football - Varsity\n\nSchools:\nLiberty North Hi
 gh School\n\nLocations:\nLNHS FB Practice Field  - East\nLNHS FB Practice 
 Field - West\nLNHS Football Field\nLNHS Activity Complex\n\n
URL;VALUE=URI:http://liberty53.tandem.co/index.php?type=view&action=event&
 id=321189
CREATED:20180712T023223Z
LAST-MODIFIED:20180716T185927Z
UID:event_request-321189-liberty53@intand.com
END:VEVENT
END:VCALENDAR
