BEGIN:VCALENDAR
VERSION:2.0
PRODID:-//Intand Corporation//Tandem//EN
METHOD:PUBLISH
BEGIN:VEVENT
DTSTAMP:20260424T023222Z
DTSTART:20181027T190000Z
DTEND:20181028T030000Z
TRANSP:TRANSPARENT
PRIORITY:0
SUMMARY:LN - State Rugby
LOCATION:LNHS FB Practice Field  - East\, LNHS FB Practice Field - West\, 
 LNHS Activity Complex
DESCRIPTION:Groups:\nLNHS Staff\n\nSchools:\nLiberty North High School\n\n
 Locations:\nLNHS FB Practice Field  - East\nLNHS FB Practice Field - West\
 nLNHS Activity Complex\n\n
URL;VALUE=URI:http://liberty53.tandem.co/index.php?type=view&action=event&
 id=321179
CREATED:20180712T022640Z
LAST-MODIFIED:20181003T130040Z
UID:event_request-321179-liberty53@intand.com
END:VEVENT
END:VCALENDAR
