BEGIN:VCALENDAR
VERSION:2.0
PRODID:-//Intand Corporation//Tandem//EN
METHOD:PUBLISH
BEGIN:VEVENT
DTSTAMP:20260424T014821Z
DTSTART:20190608T130000Z
DTEND:20190609T010000Z
TRANSP:TRANSPARENT
PRIORITY:0
SUMMARY:[Cancelled] DMS - Parks & Rec Spring Baseball/Softball League
LOCATION:DMS Baseball/Softball
DESCRIPTION:Groups:\nLiberty Parks & Rec Baseball\n\nSchools:\nDiscovery M
 iddle School\n\nLocation:\nDMS Baseball/Softball\n\n
URL;VALUE=URI:http://liberty53.tandem.co/index.php?type=view&action=event&
 id=321081
CREATED:20180711T132704Z
LAST-MODIFIED:20190515T161350Z
UID:event-321081-liberty53@intand.com
END:VEVENT
END:VCALENDAR
