BEGIN:VCALENDAR
VERSION:2.0
PRODID:-//Intand Corporation//Tandem//EN
METHOD:PUBLISH
BEGIN:VEVENT
DTSTAMP:20260424T041349Z
DTSTART:20181229T140000Z
DTEND:20181230T020000Z
TRANSP:TRANSPARENT
PRIORITY:0
SUMMARY:[Cancelled] HMS - Parks & Rec Youth Basketball League
LOCATION:HMS North Gym\, HMS South Gym
DESCRIPTION:Groups:\nLiberty Parks & Rec Basketball\n\nSchools:\nHeritage 
 Middle School\n\nLocations:\nHMS North Gym\nHMS South Gym\n\n
URL;VALUE=URI:http://liberty53.tandem.co/index.php?type=view&action=event&
 id=320767
CREATED:20180711T123020Z
LAST-MODIFIED:20181112T195357Z
UID:event-320767-liberty53@intand.com
END:VEVENT
END:VCALENDAR
