BEGIN:VCALENDAR
VERSION:2.0
PRODID:-//Intand Corporation//Tandem//EN
METHOD:PUBLISH
BEGIN:VEVENT
DTSTAMP:20260424T034908Z
DTSTART:20181205T010000Z
DTEND:20181205T040000Z
TRANSP:TRANSPARENT
PRIORITY:0
SUMMARY:MH - Parks & Rec Youth Basketball League
LOCATION:MHE Gym
DESCRIPTION:Groups:\nLiberty Parks & Rec Basketball\n\nSchools:\nManor Hil
 l Elementary\n\nLocation:\nMHE Gym\n\n
URL;VALUE=URI:http://liberty53.tandem.co/index.php?type=view&action=event&
 id=319385
CREATED:20180710T130427Z
LAST-MODIFIED:20180710T130427Z
UID:event-319385-liberty53@intand.com
END:VEVENT
END:VCALENDAR
