BEGIN:VCALENDAR
VERSION:2.0
PRODID:-//Intand Corporation//Tandem//EN
METHOD:PUBLISH
BEGIN:VEVENT
DTSTAMP:20260424T034858Z
DTSTART:20181004T203000Z
DTEND:20181004T230000Z
TRANSP:TRANSPARENT
PRIORITY:0
SUMMARY:LN Men's Swimming and Diving Practice
LOCATION:Liberty Community Center
DESCRIPTION:Groups:\nLNHS Swim & Dive - Boys\n\nSchools:\nLiberty North Hi
 gh School\n\nLocation:\nLiberty Community Center\n\n
URL;VALUE=URI:http://liberty53.tandem.co/index.php?type=view&action=event&
 id=319265
CREATED:20180710T000620Z
LAST-MODIFIED:20180710T135856Z
UID:event_request-319265-liberty53@intand.com
END:VEVENT
END:VCALENDAR
