BEGIN:VCALENDAR
VERSION:2.0
PRODID:-//Intand Corporation//Tandem//EN
METHOD:PUBLISH
BEGIN:VEVENT
DTSTAMP:20260424T072729Z
DTSTART:20181107T192000Z
DTEND:20181107T222000Z
TRANSP:TRANSPARENT
PRIORITY:0
SUMMARY:Student Pictures RETAKE Day ~ Reed Portrait Group: PM session
LOCATION:ECC Fireplace Room
DESCRIPTION:Groups:\nECC Staff\n\nSchools:\nEarly Childhood Education Cent
 er\n\nLocation:\nECC Fireplace Room\n\n
URL;VALUE=URI:http://liberty53.tandem.co/index.php?type=view&action=event&
 id=319198
CREATED:20180709T190235Z
LAST-MODIFIED:20180709T190235Z
UID:event-319198-liberty53@intand.com
END:VEVENT
END:VCALENDAR
