BEGIN:VCALENDAR
VERSION:2.0
PRODID:-//Intand Corporation//Tandem//EN
METHOD:PUBLISH
BEGIN:VEVENT
DTSTAMP:20260424T034914Z
DTSTART:20181002T233000Z
DTEND:20181003T010000Z
TRANSP:TRANSPARENT
PRIORITY:0
SUMMARY:WHE - 3rd Grade Music Concert @ LNHS
LOCATION:LNHS Performing Arts Theater (GH HVAC)
DESCRIPTION:WHE - 3rd Grade Music Concert in the LNHS Performing Arts Thea
 tre at 6\;30 pm.\n\nSetup: 6:00 pm\nBreakdown: 9:00 pm\n\nGroups:\nWHE Par
 ent\nWHE Staff\nWHE Vocal Music\n\nSchools:\nLiberty North High School\nWa
 rren Hills Elementary\n\nLocation:\nLNHS Performing Arts Theater (GH HVAC)
 \n\n
URL;VALUE=URI:http://liberty53.tandem.co/index.php?type=view&action=event&
 id=319152
CREATED:20180709T173325Z
LAST-MODIFIED:20180714T160953Z
UID:event_request-319152-liberty53@intand.com
END:VEVENT
END:VCALENDAR
