BEGIN:VCALENDAR
VERSION:2.0
PRODID:-//Intand Corporation//Tandem//EN
METHOD:PUBLISH
BEGIN:VEVENT
DTSTAMP:20260424T031227Z
DTSTART:20190228T000000Z
DTEND:20190228T033000Z
TRANSP:TRANSPARENT
PRIORITY:0
SUMMARY:[Cancelled] LS - Parks & Rec Spring Soccer/Flag Football League
LOCATION:LSE Soccer Field
DESCRIPTION:Groups:\nLiberty Parks & Rec Soccer\n\nSchools:\nLillian Schum
 acher Elementary\n\nLocation:\nLSE Soccer Field\n\n
URL;VALUE=URI:http://liberty53.tandem.co/index.php?type=view&action=event&
 id=319016
CREATED:20180709T171139Z
LAST-MODIFIED:20190227T133124Z
UID:event-319016-liberty53@intand.com
END:VEVENT
END:VCALENDAR
