BEGIN:VCALENDAR
VERSION:2.0
PRODID:-//Intand Corporation//Tandem//EN
METHOD:PUBLISH
BEGIN:VEVENT
DTSTAMP:20260424T043618Z
DTSTART:20181124T140000Z
DTEND:20181125T020000Z
TRANSP:TRANSPARENT
PRIORITY:0
SUMMARY:[Cancelled] LS - Parks & Rec Youth Basketball League
LOCATION:LSE Gym
DESCRIPTION:Groups:\nLiberty Parks & Rec Basketball\n\nSchools:\nLillian S
 chumacher Elementary\n\nLocation:\nLSE Gym\n\n
URL;VALUE=URI:http://liberty53.tandem.co/index.php?type=view&action=event&
 id=318997
CREATED:20180709T170901Z
LAST-MODIFIED:20181112T200155Z
UID:event-318997-liberty53@intand.com
END:VEVENT
END:VCALENDAR
