BEGIN:VCALENDAR
VERSION:2.0
PRODID:-//Intand Corporation//Tandem//EN
METHOD:PUBLISH
BEGIN:VEVENT
DTSTAMP:20260424T144259Z
DTSTART:20190425T230000Z
DTEND:20190426T030000Z
TRANSP:TRANSPARENT
PRIORITY:0
SUMMARY:FR - Parks & Rec Spring Baseball/Softball League
LOCATION:FE Baseball Field
DESCRIPTION:Groups:\nLiberty Parks & Rec Baseball\n\nSchools:\nFranklin El
 ementary\n\nLocation:\nFE Baseball Field\n\n
URL;VALUE=URI:http://liberty53.tandem.co/index.php?type=view&action=event&
 id=317774
CREATED:20180709T142525Z
LAST-MODIFIED:20180709T142525Z
UID:event-317774-liberty53@intand.com
END:VEVENT
END:VCALENDAR
