BEGIN:VCALENDAR
VERSION:2.0
PRODID:-//Intand Corporation//Tandem//EN
METHOD:PUBLISH
BEGIN:VEVENT
DTSTAMP:20260424T072634Z
DTSTART:20180817T150000Z
DTEND:20180817T163000Z
TRANSP:TRANSPARENT
PRIORITY:0
SUMMARY:Staff training with Gary Majors
LOCATION:ECC Fireplace Room
DESCRIPTION:*Sarah Birk\, contact.  \n\nGroups:\nECC Staff\nPAT Staff\n\nS
 chools:\nEarly Childhood Education Center\n\nLocation:\nECC Fireplace Room
 \n\n
URL;VALUE=URI:http://liberty53.tandem.co/index.php?type=view&action=event&
 id=317331
CREATED:20180709T124537Z
LAST-MODIFIED:20180709T124738Z
UID:event-317331-liberty53@intand.com
END:VEVENT
END:VCALENDAR
