BEGIN:VCALENDAR
VERSION:2.0
PRODID:-//Intand Corporation//Tandem//EN
METHOD:PUBLISH
BEGIN:VEVENT
DTSTAMP:20260424T024051Z
DTSTART:20190306T000000Z
DTEND:20190306T010000Z
TRANSP:TRANSPARENT
PRIORITY:0
SUMMARY:Parents As Teachers "Parent Child Learning Group" (in alternate lo
 cation)
LOCATION:Liberty Early Childhood Center
DESCRIPTION:Groups:\nPAT Staff\n\nSchools:\nEarly Childhood Education Cent
 er\n\nLocation:\nLiberty Early Childhood Center\n\n
URL;VALUE=URI:http://liberty53.tandem.co/index.php?type=view&action=event&
 id=317324
CREATED:20180706T192041Z
LAST-MODIFIED:20180706T192041Z
UID:event-317324-liberty53@intand.com
END:VEVENT
END:VCALENDAR
