BEGIN:VCALENDAR
VERSION:2.0
PRODID:-//Intand Corporation//Tandem//EN
METHOD:PUBLISH
BEGIN:VEVENT
DTSTAMP:20260424T061325Z
DTSTART:20180904T141500Z
DTEND:20180904T171500Z
TRANSP:TRANSPARENT
PRIORITY:0
SUMMARY:Story Time for ECC students with Ms. Jami:  AM session
LOCATION:ECC Fireplace Room
DESCRIPTION:*Contacts: Stacey McKee (ECC) or Jami Miller (employee from Wo
 odneath Library Center).  \n\nGroups:\nECC Staff\n\nSchools:\nEarly Childh
 ood Education Center\n\nLocation:\nECC Fireplace Room\n\n
URL;VALUE=URI:http://liberty53.tandem.co/index.php?type=view&action=event&
 id=317224
CREATED:20180705T195339Z
LAST-MODIFIED:20180705T200930Z
UID:event-317224-liberty53@intand.com
END:VEVENT
END:VCALENDAR
