BEGIN:VCALENDAR
VERSION:2.0
PRODID:-//Intand Corporation//Tandem//EN
METHOD:PUBLISH
BEGIN:VEVENT
DTSTAMP:20260424T041425Z
DTSTART:20180824T133000Z
DTEND:20180824T213000Z
TRANSP:TRANSPARENT
PRIORITY:0
SUMMARY:DIAL Screening 
LOCATION:Liberty Early Childhood Center\, ECC Fireplace Room
DESCRIPTION:*Developmental screening for children (ages 3-5) of Liberty Sc
 hool residents.  \n\nGroups:\nECC Staff\nPAT Staff\n\nSchools:\nEarly Chil
 dhood Education Center\n\nLocations:\nLiberty Early Childhood Center\nECC 
 Fireplace Room\n\n
URL;VALUE=URI:http://liberty53.tandem.co/index.php?type=view&action=event&
 id=317207
CREATED:20180705T190703Z
LAST-MODIFIED:20180705T190844Z
UID:event-317207-liberty53@intand.com
END:VEVENT
END:VCALENDAR
