BEGIN:VCALENDAR
VERSION:2.0
PRODID:-//Intand Corporation//Tandem//EN
METHOD:PUBLISH
BEGIN:VEVENT
DTSTAMP:20260424T055333Z
DTSTART;VALUE=DATE:20180813
DTEND;VALUE=DATE:20180814
TRANSP:TRANSPARENT
PRIORITY:0
SUMMARY:ECC Student Home Visits from 2018-19 Teacher 
LOCATION:Early Childhood Education Center
DESCRIPTION:Groups:\nECC Staff\nECC Parent\n\nSchools:\nEarly Childhood Ed
 ucation Center\n\nLocation:\nEarly Childhood Education Center\n\n
URL;VALUE=URI:http://liberty53.tandem.co/index.php?type=view&action=event&
 id=317200
CREATED:20180705T185000Z
LAST-MODIFIED:20180705T185000Z
UID:event-317200-liberty53@intand.com
END:VEVENT
END:VCALENDAR
