BEGIN:VCALENDAR
VERSION:2.0
PRODID:-//Intand Corporation//Tandem//EN
METHOD:PUBLISH
BEGIN:VEVENT
DTSTAMP:20260424T041510Z
DTSTART:20190509T143000Z
DTEND:20190509T170000Z
TRANSP:TRANSPARENT
PRIORITY:0
SUMMARY:DAC 3-Board Room  DLT Meeting
LOCATION:DAC 3-Board Room
DESCRIPTION:Setup: 7:00 am\nBreakdown: 1:00 pm\n\nGroups:\nDistrict Leader
 ship Team\n\nSchools:\nDistrict Administration Center\n\nLocation:\nDAC 3-
 Board Room\n\n
URL;VALUE=URI:http://liberty53.tandem.co/index.php?type=view&action=event&
 id=317198
CREATED:20180705T163746Z
LAST-MODIFIED:20180705T163746Z
UID:event-317198-liberty53@intand.com
END:VEVENT
END:VCALENDAR
