BEGIN:VCALENDAR
VERSION:2.0
PRODID:-//Intand Corporation//Tandem//EN
METHOD:PUBLISH
BEGIN:VEVENT
DTSTAMP:20260424T022513Z
DTSTART:20181011T143000Z
DTEND:20181011T170000Z
TRANSP:TRANSPARENT
PRIORITY:0
SUMMARY:DAC 3-Board Room  DLT Meeting
LOCATION:DAC 3-Board Room
DESCRIPTION:Setup: 7:00 am\nBreakdown: 1:00 pm\n\nGroups:\nDistrict Leader
 ship Team\n\nSchools:\nDistrict Administration Center\n\nLocation:\nDAC 3-
 Board Room\n\n
URL;VALUE=URI:http://liberty53.tandem.co/index.php?type=view&action=event&
 id=317191
CREATED:20180705T163545Z
LAST-MODIFIED:20180705T163545Z
UID:event-317191-liberty53@intand.com
END:VEVENT
END:VCALENDAR
