BEGIN:VCALENDAR
VERSION:2.0
PRODID:-//Intand Corporation//Tandem//EN
METHOD:PUBLISH
BEGIN:VEVENT
DTSTAMP:20260424T024500Z
DTSTART:20190402T120000Z
DTEND:20190402T140000Z
TRANSP:TRANSPARENT
PRIORITY:0
SUMMARY:[Cancelled] DAC 3-Board Room  Board of Education Study Session
LOCATION:DAC 3-Board Room
DESCRIPTION:Setup: 6:00 am\nBreakdown: 12:00 pm\n\nGroups:\nBoard of Educa
 tion\n\nSchools:\nDistrict Administration Center\n\nLocation:\nDAC 3-Board
  Room\n\n
URL;VALUE=URI:http://liberty53.tandem.co/index.php?type=view&action=event&
 id=317179
CREATED:20180705T162829Z
LAST-MODIFIED:20190115T152457Z
UID:event-317179-liberty53@intand.com
END:VEVENT
END:VCALENDAR
