BEGIN:VCALENDAR
VERSION:2.0
PRODID:-//Intand Corporation//Tandem//EN
METHOD:PUBLISH
BEGIN:VEVENT
DTSTAMP:20260424T024500Z
DTSTART:20181017T000000Z
DTEND:20181017T020000Z
TRANSP:TRANSPARENT
PRIORITY:0
SUMMARY:DAC 3-Board Room  Board of Education Meeting
LOCATION:DAC 3-Executive Conference Room\, DAC 3-Board Room
DESCRIPTION:Setup: 4:00 pm\nBreakdown: 10:30 pm\n\nGroups:\nBoard of Educa
 tion\n\nSchools:\nDistrict Administration Center\n\nLocations:\nDAC 3-Exec
 utive Conference Room\nDAC 3-Board Room\n\n
URL;VALUE=URI:http://liberty53.tandem.co/index.php?type=view&action=event&
 id=317173
CREATED:20180705T162430Z
LAST-MODIFIED:20180705T162430Z
UID:event-317173-liberty53@intand.com
END:VEVENT
END:VCALENDAR
