BEGIN:VCALENDAR
VERSION:2.0
PRODID:-//Intand Corporation//Tandem//EN
METHOD:PUBLISH
BEGIN:VEVENT
DTSTAMP:20260424T054252Z
DTSTART:20180830T204500Z
DTEND:20180830T230000Z
TRANSP:TRANSPARENT
PRIORITY:0
SUMMARY:LN Women's Golf Practice
LOCATION:Liberty Hills Country Club
DESCRIPTION:Groups:\nLNHS Golf - Girls\n\nSchools:\nLiberty North High Sch
 ool\n\nLocation:\nLiberty Hills Country Club\n\n
URL;VALUE=URI:http://liberty53.tandem.co/index.php?type=view&action=event&
 id=317146
CREATED:20180705T133252Z
LAST-MODIFIED:20180705T140313Z
UID:event_request-317146-liberty53@intand.com
END:VEVENT
END:VCALENDAR
