BEGIN:VCALENDAR
VERSION:2.0
PRODID:-//Intand Corporation//Tandem//EN
METHOD:PUBLISH
BEGIN:VEVENT
DTSTAMP:20260424T074127Z
DTSTART:20180807T170000Z
DTEND:20180807T210000Z
TRANSP:TRANSPARENT
PRIORITY:0
SUMMARY:DAC 3-Board Room-Custodial Meeting
LOCATION:DAC 3-Board Room
DESCRIPTION:Groups:\nDAC Head Custodians\n\nSchools:\nDistrict Administrat
 ion Center\n\nLocation:\nDAC 3-Board Room\n\n
URL;VALUE=URI:http://liberty53.tandem.co/index.php?type=view&action=event&
 id=317107
CREATED:20180702T202019Z
LAST-MODIFIED:20180806T150125Z
UID:event-317107-liberty53@intand.com
END:VEVENT
END:VCALENDAR
