BEGIN:VCALENDAR
VERSION:2.0
PRODID:-//Intand Corporation//Tandem//EN
METHOD:PUBLISH
BEGIN:VEVENT
DTSTAMP:20260424T055244Z
DTSTART:20181009T140000Z
DTEND:20181009T170000Z
TRANSP:TRANSPARENT
PRIORITY:0
SUMMARY:DAC 3-Board Room  - MCSA Professional Development Series
LOCATION:DAC 3-Board Room
DESCRIPTION:Setup: 8:00 am\nBreakdown: 1:00 pm\n\nGroups:\nSuperintendent\
 n\nSchools:\nDistrict Administration Center\n\nLocation:\nDAC 3-Board Room
 \n\n
URL;VALUE=URI:http://liberty53.tandem.co/index.php?type=view&action=event&
 id=317105
CREATED:20180702T180545Z
LAST-MODIFIED:20180702T180545Z
UID:event-317105-liberty53@intand.com
END:VEVENT
END:VCALENDAR
