BEGIN:VCALENDAR
VERSION:2.0
PRODID:-//Intand Corporation//Tandem//EN
METHOD:PUBLISH
BEGIN:VEVENT
DTSTAMP:20260424T050400Z
DTSTART:20190504T110000Z
DTEND:20190504T190000Z
TRANSP:TRANSPARENT
PRIORITY:0
SUMMARY:LPS Band Middle School solo/ensemble festival
LOCATION:LMS Room 315-Orchestra\, LMS LMC\, LMS Room 201\, LMS Room 403\, 
 LMS Room 505 - Band Room\, LMS Gym\, LMS Room 108\, LMS Conference Room\, 
 LMS Room 105\, LMS Room 206\, LMS Room 210\, LMS Room 501 - Vocal Music\, 
 LMS Teacher Lounge
DESCRIPTION:This a district wide event hosted by Jeff Lean at Liberty Midd
 le School. Hundreds of band students will perform solo and small ensemble 
 pieces for judges.\n\nGroups:\nSVMS Band\nLMS Band\nHMS Band\nDMS Band\n\n
 Schools:\nSouth Valley Middle School\nHeritage Middle School\nDiscovery Mi
 ddle School\nLiberty Middle School\n\nLocations:\nLMS Room 315-Orchestra\n
 LMS LMC\nLMS Room 201\nLMS Room 403\nLMS Room 505 - Band Room\nLMS Gym\nLM
 S Room 108\nLMS Conference Room\nLMS Room 105\nLMS Room 206\nLMS Room 210\
 nLMS Room 501 - Vocal Music\nLMS Teacher Lounge\n\n
URL;VALUE=URI:http://liberty53.tandem.co/index.php?type=view&action=event&
 id=317089
CREATED:20180630T212442Z
LAST-MODIFIED:20181207T142139Z
UID:event_request-317089-liberty53@intand.com
END:VEVENT
END:VCALENDAR
