BEGIN:VCALENDAR
VERSION:2.0
PRODID:-//Intand Corporation//Tandem//EN
METHOD:PUBLISH
BEGIN:VEVENT
DTSTAMP:20260424T043149Z
DTSTART:20190118T010000Z
DTEND:20190118T020000Z
TRANSP:TRANSPARENT
PRIORITY:0
SUMMARY:LMS Band performance
LOCATION:Liberty Performing Arts Theatre\, LMS Room 505 - Band Room\, LMS 
 Commons
DESCRIPTION:The band will meet in 506 at 6:15pm to prep for their concert 
 in the LPAT.\n\nSetup: 5:30 pm\nBreakdown: 8:30 pm\n\nGroups:\nLMS Band\n\
 nSchools:\nLiberty Middle School\n\nLocations:\nLiberty Performing Arts Th
 eatre\nLMS Room 505 - Band Room\nLMS Commons\n\n
URL;VALUE=URI:http://liberty53.tandem.co/index.php?type=view&action=event&
 id=317088
CREATED:20180630T211536Z
LAST-MODIFIED:20180816T012755Z
UID:event_request-317088-liberty53@intand.com
END:VEVENT
END:VCALENDAR
