BEGIN:VCALENDAR
VERSION:2.0
PRODID:-//Intand Corporation//Tandem//EN
METHOD:PUBLISH
BEGIN:VEVENT
DTSTAMP:20260424T050224Z
DTSTART:20190507T210000Z
DTEND:20190507T233000Z
TRANSP:TRANSPARENT
PRIORITY:0
SUMMARY:Exit 1-6 Auditions
LOCATION:LHS The Little Theater
DESCRIPTION:Groups:\nLHS Exit 16\n\nSchools:\nLiberty High School\n\nLocat
 ion:\nLHS The Little Theater\n\n
URL;VALUE=URI:http://liberty53.tandem.co/index.php?type=view&action=event&
 id=317082
CREATED:20180629T181944Z
LAST-MODIFIED:20180703T032517Z
UID:event_request-317082-liberty53@intand.com
END:VEVENT
END:VCALENDAR
