BEGIN:VCALENDAR
VERSION:2.0
PRODID:-//Intand Corporation//Tandem//EN
METHOD:PUBLISH
BEGIN:VEVENT
DTSTAMP:20260424T041728Z
DTSTART:20190307T230000Z
DTEND:20190308T020000Z
TRANSP:TRANSPARENT
PRIORITY:0
SUMMARY:LNHS Band Pre-Contest S/E
LOCATION:LNHS Room 610E\, LNHS Room 612 Orchestra\, LNHS Room 608\, LNHS R
 oom 617 VM-Large\, LNHS Room 613 VM-Small\, LNHS LMC - 200\, LNHS Room 616
  Band\, LNHS Room 609
DESCRIPTION:Setup: 3:30 pm\nBreakdown: 9:00 pm\n\nGroups:\nLNHS Band\n\nSc
 hools:\nLiberty North High School\n\nLocations:\nLNHS Room 610E\nLNHS Room
  612 Orchestra\nLNHS Room 608\nLNHS Room 617 VM-Large\nLNHS Room 613 VM-Sm
 all\nLNHS LMC - 200\nLNHS Room 616 Band\nLNHS Room 609\n\n
URL;VALUE=URI:http://liberty53.tandem.co/index.php?type=view&action=event&
 id=316661
CREATED:20180625T155749Z
LAST-MODIFIED:20180625T215626Z
UID:event_request-316661-liberty53@intand.com
END:VEVENT
END:VCALENDAR
