BEGIN:VCALENDAR
VERSION:2.0
PRODID:-//Intand Corporation//Tandem//EN
METHOD:PUBLISH
BEGIN:VEVENT
DTSTAMP:20260424T041543Z
DTSTART:20190401T210000Z
DTEND:20190401T230000Z
TRANSP:TRANSPARENT
PRIORITY:0
SUMMARY:WHE - Kids zone - 4:00pm - 6:00pm - Cafeteria & Gym
LOCATION:WHE Gym\, WHE Cafeteria
DESCRIPTION:WHE - Kids Zone from 4:00pm - 6:00pm in the gym & cafeteria\n\
 nGroups:\nWHE Parent\nWHE Staff\n\nSchools:\nWarren Hills Elementary\n\nLo
 cations:\nWHE Gym\nWHE Cafeteria\n\n
URL;VALUE=URI:http://liberty53.tandem.co/index.php?type=view&action=event&
 id=316391
CREATED:20180620T163317Z
LAST-MODIFIED:20180620T163317Z
UID:event-316391-liberty53@intand.com
END:VEVENT
END:VCALENDAR
