BEGIN:VCALENDAR
VERSION:2.0
PRODID:-//Intand Corporation//Tandem//EN
METHOD:PUBLISH
BEGIN:VEVENT
DTSTAMP:20260424T091509Z
DTSTART:20190319T113000Z
DTEND:20190319T230000Z
TRANSP:TRANSPARENT
PRIORITY:0
SUMMARY:WHE - Kids Zone (Full day) - 6:30am - 6:00 pm - Cafeteria\, Gym\, 
 LMC & Music Room
LOCATION:WHE Gym\, WHE Cafeteria\, WHE Music Room\, WHE Library
DESCRIPTION:WHE - Kids Zone (Full Day) from 6:30am - 6:00pm - Gym\, Cafete
 ria\, LMC & Music Room\n\nGroups:\nWHE Staff\nWHE Parent\n\nSchools:\nWarr
 en Hills Elementary\n\nLocations:\nWHE Gym\nWHE Cafeteria\nWHE Music Room\
 nWHE Library\n\n
URL;VALUE=URI:http://liberty53.tandem.co/index.php?type=view&action=event&
 id=316199
CREATED:20180620T152220Z
LAST-MODIFIED:20180620T152220Z
UID:event-316199-liberty53@intand.com
END:VEVENT
END:VCALENDAR
