BEGIN:VCALENDAR
VERSION:2.0
PRODID:-//Intand Corporation//Tandem//EN
METHOD:PUBLISH
BEGIN:VEVENT
DTSTAMP:20260424T043850Z
DTSTART:20190305T123000Z
DTEND:20190305T150000Z
TRANSP:TRANSPARENT
PRIORITY:0
SUMMARY:WHE - Kids Zone - 6:30 am - 9:00 am - Cafeteria & Gym
LOCATION:WHE Gym\, WHE Cafeteria
DESCRIPTION:WHE - Kids Zone from 6:30am - 9:00 am - Cafeteria & Gym\n\nGro
 ups:\nWHE Staff\nWHE Parent\n\nSchools:\nWarren Hills Elementary\n\nLocati
 ons:\nWHE Gym\nWHE Cafeteria\n\n
URL;VALUE=URI:http://liberty53.tandem.co/index.php?type=view&action=event&
 id=316189
CREATED:20180620T151808Z
LAST-MODIFIED:20180620T151808Z
UID:event-316189-liberty53@intand.com
END:VEVENT
END:VCALENDAR
