BEGIN:VCALENDAR
VERSION:2.0
PRODID:-//Intand Corporation//Tandem//EN
METHOD:PUBLISH
BEGIN:VEVENT
DTSTAMP:20260424T043915Z
DTSTART:20180809T193000Z
DTEND:20180809T210000Z
TRANSP:TRANSPARENT
PRIORITY:0
SUMMARY:DMS- Active Shooter Training
LOCATION:DMS Room 103\, DMS Room 102\, DMS Cool Beans
DESCRIPTION:Groups:\nDMS Staff\n\nSchools:\nDiscovery Middle School\n\nLoc
 ations:\nDMS Room 103\nDMS Room 102\nDMS Cool Beans\n\n
URL;VALUE=URI:http://liberty53.tandem.co/index.php?type=view&action=event&
 id=316063
CREATED:20180620T144455Z
LAST-MODIFIED:20180620T144621Z
UID:event_request-316063-liberty53@intand.com
END:VEVENT
END:VCALENDAR
