BEGIN:VCALENDAR
VERSION:2.0
PRODID:-//Intand Corporation//Tandem//EN
METHOD:PUBLISH
BEGIN:VEVENT
DTSTAMP:20260424T023954Z
DTSTART:20180911T233000Z
DTEND:20180912T010000Z
TRANSP:TRANSPARENT
PRIORITY:0
SUMMARY:SC-PTA General Meeting
LOCATION:SCE Purple Commons
DESCRIPTION:Will need to have 6 - long tables and chairs set-up in purple 
 common area.\n\nGroups:\nSCE PTA\nSCE Parent\nSCE Staff\n\nSchools:\nShoal
  Creek Elementary\n\nLocation:\nSCE Purple Commons\n\n
URL;VALUE=URI:http://liberty53.tandem.co/index.php?type=view&action=event&
 id=316029
CREATED:20180619T160451Z
LAST-MODIFIED:20180619T161512Z
UID:event-316029-liberty53@intand.com
END:VEVENT
END:VCALENDAR
