BEGIN:VCALENDAR
VERSION:2.0
PRODID:-//Intand Corporation//Tandem//EN
METHOD:PUBLISH
BEGIN:VEVENT
DTSTAMP:20260424T043529Z
DTSTART;VALUE=DATE:20190505
DTEND;VALUE=DATE:20190506
TRANSP:TRANSPARENT
PRIORITY:0
SUMMARY:LHS-C Blue Baseball Home Tournament
LOCATION:LHS Ball Diamond 1
DESCRIPTION:Setup: TBD\nBreakdown: TBD\n\nDepart: TBD\nReturn: TBD\n\nGrou
 ps:\nLHS Baseball C-Team\n\nSchools:\nLiberty High School\n\nLocation:\nLH
 S Ball Diamond 1\n\n
URL;VALUE=URI:http://liberty53.tandem.co/index.php?type=view&action=event&
 id=315769
CREATED:20180618T185120Z
LAST-MODIFIED:20180618T185120Z
UID:event-315769-liberty53@intand.com
END:VEVENT
END:VCALENDAR
