BEGIN:VCALENDAR
VERSION:2.0
PRODID:-//Intand Corporation//Tandem//EN
METHOD:PUBLISH
BEGIN:VEVENT
DTSTAMP:20260424T052327Z
DTSTART:20190509T210000Z
DTEND:20190509T220000Z
TRANSP:TRANSPARENT
PRIORITY:0
SUMMARY:LHS-C Blue Baseball Away vs Staley
LOCATION:Staley High School
DESCRIPTION:Groups:\nLHS Baseball C-Team\n\nSchools:\nLiberty High School\
 n\nLocation:\nStaley High School\n\n
URL;VALUE=URI:http://liberty53.tandem.co/index.php?type=view&action=event&
 id=315744
CREATED:20180618T180702Z
LAST-MODIFIED:20180618T185347Z
UID:event-315744-liberty53@intand.com
END:VEVENT
END:VCALENDAR
