BEGIN:VCALENDAR
VERSION:2.0
PRODID:-//Intand Corporation//Tandem//EN
METHOD:PUBLISH
BEGIN:VEVENT
DTSTAMP:20260424T040644Z
DTSTART:20190509T213000Z
DTEND:20190509T233000Z
TRANSP:TRANSPARENT
PRIORITY:0
SUMMARY:[Cancelled] LHS-JV Baseball @ LHS cs LNHS
LOCATION:LHS Ball Diamond 1
DESCRIPTION:Groups:\nLHS Baseball C-Team\n\nSchools:\nLiberty High School\
 n\nLocation:\nLHS Ball Diamond 1\n\n
URL;VALUE=URI:http://liberty53.tandem.co/index.php?type=view&action=event&
 id=315718
CREATED:20180618T180022Z
LAST-MODIFIED:20190508T154225Z
UID:event-315718-liberty53@intand.com
END:VEVENT
END:VCALENDAR
