BEGIN:VCALENDAR
VERSION:2.0
PRODID:-//Intand Corporation//Tandem//EN
METHOD:PUBLISH
BEGIN:VEVENT
DTSTAMP:20260424T073844Z
DTSTART:20180820T113000Z
DTEND:20180820T133000Z
TRANSP:TRANSPARENT
PRIORITY:0
SUMMARY:DMS- Picture Make-Ups
LOCATION:DMS Cafeteria
DESCRIPTION:Groups:\nDMS Administrative Assistants\n\nSchools:\nDiscovery 
 Middle School\n\nLocation:\nDMS Cafeteria\n\n
URL;VALUE=URI:http://liberty53.tandem.co/index.php?type=view&action=event&
 id=315703
CREATED:20180618T173300Z
LAST-MODIFIED:20180618T181618Z
UID:event_request-315703-liberty53@intand.com
END:VEVENT
END:VCALENDAR
