BEGIN:VCALENDAR
VERSION:2.0
PRODID:-//Intand Corporation//Tandem//EN
METHOD:PUBLISH
BEGIN:VEVENT
DTSTAMP:20260424T024549Z
DTSTART:20190503T210000Z
DTEND:20190503T230000Z
TRANSP:TRANSPARENT
PRIORITY:0
SUMMARY:LHS-Varsity Baseball Away vs St. Joe Central
LOCATION:St. Joe Central High
DESCRIPTION:Groups:\nLHS Baseball Varsity\n\nSchools:\nLiberty High School
 \nSt. Joe Central High\n\nLocation:\nSt. Joe Central High\n\n
URL;VALUE=URI:http://liberty53.tandem.co/index.php?type=view&action=event&
 id=315586
CREATED:20180618T134912Z
LAST-MODIFIED:20180618T145102Z
UID:event-315586-liberty53@intand.com
END:VEVENT
END:VCALENDAR
